BEGIN:VCALENDAR
VERSION:2.0
PRODID:SchoolNow
CALSCALE:GREGORIAN
BEGIN:VEVENT
UID:33b455aa-dd8f-11ef-9e89-0e956362e35d
DTSTAMP:20250128T154738Z
SUMMARY:(B) V Swimming/Diving - Practice (2:45 PM)
LOCATION:PHS Swimming Pool
URL;VALUE=URI:https://www.uticaschools.org/departments/athletics/calendar/7
 387589/b-v-swimming-diving-practice-2-45-pm
DTSTART:20241120T194500Z
DTEND:20241120T220000Z
END:VEVENT
END:VCALENDAR
